BEGIN:VCALENDAR
VERSION:2.0
CREATED:20260406T194707Z
PRODID:-//ServisFirst Bancshares\, Inc./Equisolve Calendar v1.0//EN
METHOD:PUBLISH
BEGIN:VEVENT
UID:ce8b23bbf18f78c3ea763654ca1af6de
DTSTAMP:20260421T111117Z
DTSTART:20260518T140000Z
DTEND:20260518T150000Z
SUMMARY:Annual Meeting of Stockholders
DESCRIPTION:Annual Meeting of Stockholders
Date: May 18\, 2026 9:00 am CDT
END:VEVENT
END:VCALENDAR
